BEGIN:VCALENDAR
VERSION:2.0
PRODID:icalendar-ruby
CALSCALE:GREGORIAN
METHOD:PUBLISH
BEGIN:VEVENT
DTSTAMP:20260420T033739Z
UID:9a602501-206c-4529-a3e7-c301173deaff
DTSTART:20251129T180000
DTEND:20251206T020000
DESCRIPTION:<p><span style="color: rgb(0\, 0\, 0)\;">It’s the moment you
 ’ve been waiting your whole life for. Rage Festival is the only place wh
 ere thousands of students from across the country come together to celebra
 te their freedom. For 12 long years\, school has been all you have ever kn
 own. Locked away\, controlled by rules and uniforms. But now it is finally
  time for you to break free and at Rage Festival\, we have the key.</span>
 </p><p><strong style="color: rgb(0\, 0\, 0)\;">NB!</strong></p><p><span st
 yle="color: rgb(0\, 0\, 0)\;">The person attending the festival needs thei
 r own howler account with their name\, ID number and email address in orde
 r to to purchase a Passport. Parents / Legal guardians must not purchase a
  ticket using their howler account as this will result in the parent / leg
 al guardian name on the ticket.</span></p><p><strong style="color: rgb(0\,
  0\, 0)\;">REFUND PROTECT</strong></p><p><span style="color: rgb(0\, 0\, 0
 )\;">We offer the possibility to upgrade your refund terms when you make a
  purchase. This will allow you to receive a 100% refund if you cannot atte
 nd for one of the many reasons. See Terms and Conditions here: </span><a h
 ref="https://www.refundable.me/" target="_blank" style="color: rgb(0\, 0\,
  0)\;">https://www.refundable.me/</a></p><p><span style="color: rgb(0\, 0\
 , 0)\;">Requesting a Refund:</span></p><p><span style="color: rgb(0\, 0\, 
 0)\;">To apply for a Refund\, simply click on the link in Your booking con
 firmation email. The application must be completed up to 60 days after the
  Booking.</span></p><p><span style="color: rgb(0\, 0\, 0)\;">Should you no
 t want the protection\, simply uncheck the checkbox and you will not be ch
 arged.</span></p><p><br></p>
LOCATION:D173 Esenembi Rd\, Dolphin Coast\, 4399
SUMMARY:Rage Festival 2025
URL;VALUE=URI:https://rage.howler.co.za/rf25
END:VEVENT
END:VCALENDAR
